BEGIN:VCALENDAR
VERSION:2.0
PRODID:-//wp-events-plugin.com//6.5.2//EN
BEGIN:VEVENT
UID:60@lcluzern.ch
DTSTART;VALUE=DATE:20251122
DTEND;VALUE=DATE:20251123
DTSTAMP:20260104T193956Z
URL:https://lcluzern.ch/events/ubs-kids-cup-team-lokale-ausscheidung-4/
SUMMARY:UBS Kids Cup Team (lokale Ausscheidung)
DESCRIPTION:INFORMATIONEN\n\nInformationen und Anmeldeformular\nInfoblatt\n
 Zeitplan\nRangliste
ATTACH;FMTTYPE=image/jpeg:https://lcluzern.ch/wp-content/uploads/2023/03/p
 hoto-output-3.jpg
CATEGORIES:LCL Event,UBS Kids Cup Projekt,Wettkampf
LOCATION:Turnhalle Maihof\, Maihofstrasse 15\, 6004 Luzern\, Schweiz
X-APPLE-STRUCTURED-LOCATION;VALUE=URI;X-ADDRESS=Maihofstrasse 15\, 6004 Luz
 ern\, Schweiz;X-APPLE-RADIUS=100;X-TITLE=Turnhalle Maihof:geo:0,0
END:VEVENT
END:VCALENDAR