BEGIN:VCALENDAR
VERSION:2.0
PRODID:-//wp-events-plugin.com//6.5.2//EN
BEGIN:VEVENT
UID:14@lcluzern.ch
DTSTART:20230830T160000Z
DTEND:20230830T220000Z
DTSTAMP:20230831T125202Z
URL:https://lcluzern.ch/events/visana-sprint-2023/
SUMMARY:Visana Sprint / Visana Sprint for all
DESCRIPTION:INFORMATIONEN\n\nDer diesjährige Visana Sprint besteht aus dre
 i Teilen. Einerseits findet wie gewohnt der Kantonalfinal statt\, bei dem 
 man sich für den Schweizer Final qualifizieren kann. Neu integrieren wir 
 in den Visana Sprint das Projekt "Visana Sprint for all"\, bei dem Kinder 
 und Jugendliche mit einer Beeinträchtigung eine Startmöglichkeit erhalte
 n.\n\nRangliste\nLive-Resultate\nAusschreibung Visana Sprint\nAusschreibun
 g Visana Sprint for all\nZeitplan\n\nLink zur Homepage vom Visana Sprint\n
 Link zur Homepage vom Projekt Visana Sprint for all\n\n&nbsp\;
ATTACH;FMTTYPE=image/jpeg:https://lcluzern.ch/wp-content/uploads/2023/03/V
 isana-Sprin.jpg
CATEGORIES:LCL Event,Visana Sprint,Wettkampf
LOCATION:Leichtathletikanlage Allmend\, Allmend\, 6005 Luzern\, Schweiz
X-APPLE-STRUCTURED-LOCATION;VALUE=URI;X-ADDRESS=Allmend\, 6005 Luzern\, Sch
 weiz;X-APPLE-RADIUS=100;X-TITLE=Leichtathletikanlage Allmend:geo:0,0
END:VEVENT
END:VCALENDAR